BEGIN:VCALENDAR
VERSION:2.0
PRODID:-//Sora Aerial Arts - ECPv6.15.20//NONSGML v1.0//EN
CALSCALE:GREGORIAN
METHOD:PUBLISH
X-ORIGINAL-URL:https://soraaerialarts.com
X-WR-CALDESC:Events for Sora Aerial Arts
REFRESH-INTERVAL;VALUE=DURATION:PT1H
X-Robots-Tag:noindex
X-PUBLISHED-TTL:PT1H
BEGIN:VTIMEZONE
TZID:America/New_York
BEGIN:DAYLIGHT
TZOFFSETFROM:-0500
TZOFFSETTO:-0400
TZNAME:EDT
DTSTART:20230312T070000
END:DAYLIGHT
BEGIN:STANDARD
TZOFFSETFROM:-0400
TZOFFSETTO:-0500
TZNAME:EST
DTSTART:20231105T060000
END:STANDARD
BEGIN:DAYLIGHT
TZOFFSETFROM:-0500
TZOFFSETTO:-0400
TZNAME:EDT
DTSTART:20240310T070000
END:DAYLIGHT
BEGIN:STANDARD
TZOFFSETFROM:-0400
TZOFFSETTO:-0500
TZNAME:EST
DTSTART:20241103T060000
END:STANDARD
BEGIN:DAYLIGHT
TZOFFSETFROM:-0500
TZOFFSETTO:-0400
TZNAME:EDT
DTSTART:20250309T070000
END:DAYLIGHT
BEGIN:STANDARD
TZOFFSETFROM:-0400
TZOFFSETTO:-0500
TZNAME:EST
DTSTART:20251102T060000
END:STANDARD
END:VTIMEZONE
BEGIN:VEVENT
DTSTART;TZID=America/New_York:20240711T100000
DTEND;TZID=America/New_York:20240714T180000
DTSTAMP:20260422T052131
CREATED:20240328T160439Z
LAST-MODIFIED:20240328T180427Z
UID:10000025-1720692000-1720980000@soraaerialarts.com
SUMMARY:Aerial Traincation 2024
DESCRIPTION:We are so excited to announce our 2024 Traincation!  \n\n\n\nThis 4-Day Intensive Aerial Training will be a time for you to step away from the hustle and bustle of your typical schedule in order to focus on your own training\, learn brand new tricks from highly skilled coaches\, and level up in a focused and professional training environment. \n\n\n\nWe are so excited to welcome phenomenal coaches @dan_saab\, @lenalani & @aregularpieceofasparagus to Sora for this year’s Traincation!  \n\n\n\nThe training will be held in Sora Aerial Arts’ state of the art facility housing an aerial space with 28 foot ceilings\, a beautiful pole & dance studio\, weight room\, stretching studio\, and infrared sauna. \n\n\n\nThe space is fully air conditioned and located in Lexington\, KY. The training is July 11-14 from 10am-6pm each day. You will get to choose your own training track below. Once you fill out the application\, you will receive an email from us that gives you more details about payment\, travel\, and training in general. \n\n\n\nWe can’t wait to train with you! The prices to participate in this training are listed below: \n\n\n\n$700 Tier 1 (early early bird) – pay by April 30th$795 Tier 2 (early bird) – pay by May 30th$850 full price \n\n\n\nClick here to apply: https://docs.google.com/…/1FAIpQLSfovX86NXu0Ay…/viewform
URL:https://soraaerialarts.com/event/aerial-traincation-2024/
LOCATION:Sora Aerial Arts\, 170 Turner Commons Way\, Suite 130\, Lexington\, KY\, 40508\, United States
CATEGORIES:traincation,workshop
ATTACH;FMTTYPE=image/jpeg:https://soraaerialarts.com/wp-content/uploads/2024/03/Traincation-2024-1920-x-1080-px.jpg
END:VEVENT
END:VCALENDAR