BEGIN:VCALENDAR
VERSION:2.0
PRODID:-//Sora Aerial Arts - ECPv6.15.20//NONSGML v1.0//EN
CALSCALE:GREGORIAN
METHOD:PUBLISH
X-WR-CALNAME:Sora Aerial Arts
X-ORIGINAL-URL:https://soraaerialarts.com
X-WR-CALDESC:Events for Sora Aerial Arts
REFRESH-INTERVAL;VALUE=DURATION:PT1H
X-Robots-Tag:noindex
X-PUBLISHED-TTL:PT1H
BEGIN:VTIMEZONE
TZID:America/New_York
BEGIN:DAYLIGHT
TZOFFSETFROM:-0500
TZOFFSETTO:-0400
TZNAME:EDT
DTSTART:20230312T070000
END:DAYLIGHT
BEGIN:STANDARD
TZOFFSETFROM:-0400
TZOFFSETTO:-0500
TZNAME:EST
DTSTART:20231105T060000
END:STANDARD
BEGIN:DAYLIGHT
TZOFFSETFROM:-0500
TZOFFSETTO:-0400
TZNAME:EDT
DTSTART:20240310T070000
END:DAYLIGHT
BEGIN:STANDARD
TZOFFSETFROM:-0400
TZOFFSETTO:-0500
TZNAME:EST
DTSTART:20241103T060000
END:STANDARD
BEGIN:DAYLIGHT
TZOFFSETFROM:-0500
TZOFFSETTO:-0400
TZNAME:EDT
DTSTART:20250309T070000
END:DAYLIGHT
BEGIN:STANDARD
TZOFFSETFROM:-0400
TZOFFSETTO:-0500
TZNAME:EST
DTSTART:20251102T060000
END:STANDARD
END:VTIMEZONE
BEGIN:VEVENT
DTSTART;TZID=America/New_York:20240308T183000
DTEND;TZID=America/New_York:20240308T200000
DTSTAMP:20260421T124723
CREATED:20240208T185723Z
LAST-MODIFIED:20240208T185725Z
UID:10000021-1709922600-1709928000@soraaerialarts.com
SUMMARY:Beginner Rope: Monkeying Around with Sebastian Rojas
DESCRIPTION:Beginner Rope: Monkeying Around with Sebastian Rojas \n\n\n\nCurious about rope but never had the chance to explore? Come and learn beats\, various sequences\, tension locks\, and dynamic movement accessible to beginner students. This is a 90-minute workshop.  \n\n\n\nPrerequisites: Ability to climb to the top\, no current shoulder injury. \n\n\n\nAbout Sebastian: \n\n\n\nSebastian is one of the founders and co-owner of Celeste Aerial Arts located in Detroit\, Michigan. He started off as a martial artist in 2003 and began teaching after he obtained his black belt in 2008. Martial arts has given him an understanding of the body and awareness that easily translated to aerials. \n\n\n\nHe found his passion for rope and straps and developed his own teaching style based on dynamic movement and technique. His goal has been to bring both of these apparatuses into the spotlight in the Detroit area.
URL:https://soraaerialarts.com/event/beginner-rope-monkeying-around-with-sebastian-rojas/
LOCATION:Sora Aerial Arts\, 170 Turner Commons Way\, Suite 130\, Lexington\, KY\, 40508\, United States
CATEGORIES:workshop
ATTACH;FMTTYPE=image/jpeg:https://soraaerialarts.com/wp-content/uploads/2024/02/1.jpg
END:VEVENT
END:VCALENDAR