BEGIN:VCALENDAR
VERSION:2.0
PRODID:-//Sora Aerial Arts - ECPv6.15.20//NONSGML v1.0//EN
CALSCALE:GREGORIAN
METHOD:PUBLISH
X-WR-CALNAME:Sora Aerial Arts
X-ORIGINAL-URL:https://soraaerialarts.com
X-WR-CALDESC:Events for Sora Aerial Arts
REFRESH-INTERVAL;VALUE=DURATION:PT1H
X-Robots-Tag:noindex
X-PUBLISHED-TTL:PT1H
BEGIN:VTIMEZONE
TZID:America/New_York
BEGIN:DAYLIGHT
TZOFFSETFROM:-0500
TZOFFSETTO:-0400
TZNAME:EDT
DTSTART:20230312T070000
END:DAYLIGHT
BEGIN:STANDARD
TZOFFSETFROM:-0400
TZOFFSETTO:-0500
TZNAME:EST
DTSTART:20231105T060000
END:STANDARD
BEGIN:DAYLIGHT
TZOFFSETFROM:-0500
TZOFFSETTO:-0400
TZNAME:EDT
DTSTART:20240310T070000
END:DAYLIGHT
BEGIN:STANDARD
TZOFFSETFROM:-0400
TZOFFSETTO:-0500
TZNAME:EST
DTSTART:20241103T060000
END:STANDARD
BEGIN:DAYLIGHT
TZOFFSETFROM:-0500
TZOFFSETTO:-0400
TZNAME:EDT
DTSTART:20250309T070000
END:DAYLIGHT
BEGIN:STANDARD
TZOFFSETFROM:-0400
TZOFFSETTO:-0500
TZNAME:EST
DTSTART:20251102T060000
END:STANDARD
END:VTIMEZONE
BEGIN:VEVENT
DTSTART;TZID=America/New_York:20240309T163000
DTEND;TZID=America/New_York:20240310T163000
DTSTAMP:20260421T124729
CREATED:20240208T185950Z
LAST-MODIFIED:20240215T222642Z
UID:10000022-1710001800-1710088200@soraaerialarts.com
SUMMARY:Aerial Straps Intensive with Sebastian Rojas
DESCRIPTION:Aerial Straps Intensive with Sebastian Rojas \n\n\n\nMarch 9th 4:30pm-7pm & March 10th 2pm-4:30pm \n\n\n\nA multi-day straps extravaganza! Join Sebastian for a deep dive into technique\, sequences\, and tricks. Students will work on long-term skills such as switches\, one-arm inversions\, dynamic swinging skills\, and roll-ups\, including learning how to train and progress toward them effectively and safely. We’ll also have fun with some Sebastian-original straps choreography and movement quality. Come in ready to train hard\, take notes\, and explore another side of aerial straps.  \n\n\n\nPrerequisites: Ability to invert consecutively unassisted on any apparatus\, spinning on 2 arms\, & familiarity with straps or similar aerial experience. \n\n\n\nAbout Sebastian: \n\n\n\nSebastian is one of the founders and co-owner of Celeste Aerial Arts located in Detroit\, Michigan. He started off as a martial artist in 2003 and began teaching after he obtained his black belt in 2008. Martial arts has given him an understanding of the body and awareness that easily translated to aerials. \n\n\n\nHe found his passion for rope and straps and developed his own teaching style based on dynamic movement and technique. His goal has been to bring both of these apparatuses into the spotlight in the Detroit area.
URL:https://soraaerialarts.com/event/aerial-straps-intensive-with-sebastian-rojas/
LOCATION:Sora Aerial Arts\, 170 Turner Commons Way\, Suite 130\, Lexington\, KY\, 40508\, United States
CATEGORIES:workshop
ATTACH;FMTTYPE=image/jpeg:https://soraaerialarts.com/wp-content/uploads/2024/02/Seba-Workshops-FB-Event.jpg
END:VEVENT
END:VCALENDAR